BEGIN:VCALENDAR
VERSION:2.0
PRODID:-//Tillamook County Historical Society - ECPv6.15.20//NONSGML v1.0//EN
CALSCALE:GREGORIAN
METHOD:PUBLISH
X-ORIGINAL-URL:https://tillamookhistory.org
X-WR-CALDESC:Events for Tillamook County Historical Society
REFRESH-INTERVAL;VALUE=DURATION:PT1H
X-Robots-Tag:noindex
X-PUBLISHED-TTL:PT1H
BEGIN:VTIMEZONE
TZID:America/Los_Angeles
BEGIN:DAYLIGHT
TZOFFSETFROM:-0800
TZOFFSETTO:-0700
TZNAME:PDT
DTSTART:20240310T100000
END:DAYLIGHT
BEGIN:STANDARD
TZOFFSETFROM:-0700
TZOFFSETTO:-0800
TZNAME:PST
DTSTART:20241103T090000
END:STANDARD
BEGIN:DAYLIGHT
TZOFFSETFROM:-0800
TZOFFSETTO:-0700
TZNAME:PDT
DTSTART:20250309T100000
END:DAYLIGHT
BEGIN:STANDARD
TZOFFSETFROM:-0700
TZOFFSETTO:-0800
TZNAME:PST
DTSTART:20251102T090000
END:STANDARD
BEGIN:DAYLIGHT
TZOFFSETFROM:-0800
TZOFFSETTO:-0700
TZNAME:PDT
DTSTART:20260308T100000
END:DAYLIGHT
BEGIN:STANDARD
TZOFFSETFROM:-0700
TZOFFSETTO:-0800
TZNAME:PST
DTSTART:20261101T090000
END:STANDARD
END:VTIMEZONE
BEGIN:VEVENT
DTSTART;TZID=America/Los_Angeles:20250415T130000
DTEND;TZID=America/Los_Angeles:20250415T140000
DTSTAMP:20260419T093659
CREATED:20250107T013704Z
LAST-MODIFIED:20250107T013704Z
UID:3721-1744722000-1744725600@tillamookhistory.org
SUMMARY:Board and membership meeting
DESCRIPTION:
URL:https://tillamookhistory.org/event/board-and-membership-meeting-4/
LOCATION:Tillamook County Library\, 1716 Third St\,\, Tillamook\, OREGON\, 97141
END:VEVENT
BEGIN:VEVENT
DTSTART;TZID=America/Los_Angeles:20250426T100000
DTEND;TZID=America/Los_Angeles:20250426T150000
DTSTAMP:20260419T093659
CREATED:20250304T232816Z
LAST-MODIFIED:20250304T232816Z
UID:3800-1745661600-1745679600@tillamookhistory.org
SUMMARY:Bay City Cemetery Cleanup Day
DESCRIPTION:A partnership with Solve\, at the Bay City IOOF Cemetery\, Alderbrook Rd and Doughty Road
URL:https://tillamookhistory.org/event/bay-city-cemetery-cleanup-day/
LOCATION:Bay City IOOF Cemetery\, 7555 Doughty Rd\, Tillamook\, OR\, 97141\, United States
END:VEVENT
END:VCALENDAR