BEGIN:VCALENDAR
VERSION:2.0
PRODID:-//Tillamook County Historical Society - ECPv6.15.20//NONSGML v1.0//EN
CALSCALE:GREGORIAN
METHOD:PUBLISH
X-ORIGINAL-URL:https://tillamookhistory.org
X-WR-CALDESC:Events for Tillamook County Historical Society
REFRESH-INTERVAL;VALUE=DURATION:PT1H
X-Robots-Tag:noindex
X-PUBLISHED-TTL:PT1H
BEGIN:VTIMEZONE
TZID:America/Los_Angeles
BEGIN:DAYLIGHT
TZOFFSETFROM:-0800
TZOFFSETTO:-0700
TZNAME:PDT
DTSTART:20240310T100000
END:DAYLIGHT
BEGIN:STANDARD
TZOFFSETFROM:-0700
TZOFFSETTO:-0800
TZNAME:PST
DTSTART:20241103T090000
END:STANDARD
BEGIN:DAYLIGHT
TZOFFSETFROM:-0800
TZOFFSETTO:-0700
TZNAME:PDT
DTSTART:20250309T100000
END:DAYLIGHT
BEGIN:STANDARD
TZOFFSETFROM:-0700
TZOFFSETTO:-0800
TZNAME:PST
DTSTART:20251102T090000
END:STANDARD
BEGIN:DAYLIGHT
TZOFFSETFROM:-0800
TZOFFSETTO:-0700
TZNAME:PDT
DTSTART:20260308T100000
END:DAYLIGHT
BEGIN:STANDARD
TZOFFSETFROM:-0700
TZOFFSETTO:-0800
TZNAME:PST
DTSTART:20261101T090000
END:STANDARD
END:VTIMEZONE
BEGIN:VEVENT
DTSTART;TZID=America/Los_Angeles:20250311T130000
DTEND;TZID=America/Los_Angeles:20250311T130000
DTSTAMP:20260419T110400
CREATED:20250101T190709Z
LAST-MODIFIED:20250107T220712Z
UID:3684-1741698000-1741698000@tillamookhistory.org
SUMMARY:Board and Membership meeting
DESCRIPTION:
URL:https://tillamookhistory.org/event/board-and-membership-meeting-2/
LOCATION:Tillamook County Library\, 1716 Third St\,\, Tillamook\, OREGON\, 97141
END:VEVENT
BEGIN:VEVENT
DTSTART;VALUE=DATE:20250314
DTEND;VALUE=DATE:20250316
DTSTAMP:20260419T110400
CREATED:20250101T191402Z
LAST-MODIFIED:20250101T191402Z
UID:3686-1741910400-1742083199@tillamookhistory.org
SUMMARY:Book Sale for Historical Society
DESCRIPTION:See our collection of local history books
URL:https://tillamookhistory.org/event/book-sale-for-historical-society/
LOCATION:Tillamook County Fairgrounds\, 4603 Third St\, Tillamook\, Oregon\, 97141
END:VEVENT
BEGIN:VEVENT
DTSTART;TZID=America/Los_Angeles:20250322T120000
DTEND;TZID=America/Los_Angeles:20250322T160000
DTSTAMP:20260419T110400
CREATED:20250318T160043Z
LAST-MODIFIED:20250318T160043Z
UID:3811-1742644800-1742659200@tillamookhistory.org
SUMMARY:Ted Talk at Garibaldi Boat House
DESCRIPTION:
URL:https://tillamookhistory.org/event/ted-talk-at-garibaldi-boat-house/
LOCATION:Garibaldi Boat House\, 1209 Bay Lane\, Garibaldi\, OR\, 97118\, United States
END:VEVENT
BEGIN:VEVENT
DTSTART;TZID=America/Los_Angeles:20250329T153000
DTEND;TZID=America/Los_Angeles:20250329T170000
DTSTAMP:20260419T110400
CREATED:20250302T223533Z
LAST-MODIFIED:20250302T223533Z
UID:3797-1743262200-1743267600@tillamookhistory.org
SUMMARY:Cemetery Preservation: Uncovering Local History; Lisa Sears
DESCRIPTION:Lisa Sears\, genealogist and family history researcher\, talks about cemetery preservation and its role in preserving local history.
URL:https://tillamookhistory.org/event/cemetery-preservation-uncovering-local-history-lisa-sears/
LOCATION:NCRD\, 36155 9th\, Nehalem\, OR\, 97131\, United States
END:VEVENT
END:VCALENDAR