BEGIN:VCALENDAR
VERSION:2.0
PRODID:-//Tillamook County Historical Society - ECPv6.15.20//NONSGML v1.0//EN
CALSCALE:GREGORIAN
METHOD:PUBLISH
X-WR-CALNAME:Tillamook County Historical Society
X-ORIGINAL-URL:https://tillamookhistory.org
X-WR-CALDESC:Events for Tillamook County Historical Society
REFRESH-INTERVAL;VALUE=DURATION:PT1H
X-Robots-Tag:noindex
X-PUBLISHED-TTL:PT1H
BEGIN:VTIMEZONE
TZID:America/Los_Angeles
BEGIN:DAYLIGHT
TZOFFSETFROM:-0800
TZOFFSETTO:-0700
TZNAME:PDT
DTSTART:20240310T100000
END:DAYLIGHT
BEGIN:STANDARD
TZOFFSETFROM:-0700
TZOFFSETTO:-0800
TZNAME:PST
DTSTART:20241103T090000
END:STANDARD
BEGIN:DAYLIGHT
TZOFFSETFROM:-0800
TZOFFSETTO:-0700
TZNAME:PDT
DTSTART:20250309T100000
END:DAYLIGHT
BEGIN:STANDARD
TZOFFSETFROM:-0700
TZOFFSETTO:-0800
TZNAME:PST
DTSTART:20251102T090000
END:STANDARD
BEGIN:DAYLIGHT
TZOFFSETFROM:-0800
TZOFFSETTO:-0700
TZNAME:PDT
DTSTART:20260308T100000
END:DAYLIGHT
BEGIN:STANDARD
TZOFFSETFROM:-0700
TZOFFSETTO:-0800
TZNAME:PST
DTSTART:20261101T090000
END:STANDARD
END:VTIMEZONE
BEGIN:VEVENT
DTSTART;TZID=America/Los_Angeles:20250208T153000
DTEND;TZID=America/Los_Angeles:20250208T163000
DTSTAMP:20260419T124059
CREATED:20250121T004744Z
LAST-MODIFIED:20250121T004744Z
UID:3763-1739028600-1739032200@tillamookhistory.org
SUMMARY:Oregon's Black History lecture. 450 years in 45 minutes
DESCRIPTION:Zackery Stocks talks about Oregon’s black history.
URL:https://tillamookhistory.org/event/oregons-black-history-lecture-450-years-in-45-minutes/
LOCATION:NCRD\, 36155 9th\, Nehalem\, OR\, 97131\, United States
END:VEVENT
BEGIN:VEVENT
DTSTART;TZID=America/Los_Angeles:20250211T130000
DTEND;TZID=America/Los_Angeles:20250211T130000
DTSTAMP:20260419T124059
CREATED:20250101T190527Z
LAST-MODIFIED:20250107T220618Z
UID:3682-1739278800-1739278800@tillamookhistory.org
SUMMARY:Monthly board and membership meeting
DESCRIPTION:
URL:https://tillamookhistory.org/event/monthly-board-and-membership-meeting/
LOCATION:Tillamook County Library\, 1716 Third St\,\, Tillamook\, OREGON\, 97141
END:VEVENT
BEGIN:VEVENT
DTSTART;TZID=America/Los_Angeles:20250222T103000
DTEND;TZID=America/Los_Angeles:20250222T153000
DTSTAMP:20260419T124059
CREATED:20250212T033744Z
LAST-MODIFIED:20250212T033757Z
UID:3772-1740220200-1740238200@tillamookhistory.org
SUMMARY:Beale Dixon book reading and sale
DESCRIPTION:Readings and sale of Calm Amidst Crisis\,  a new book on the life of Beale Dixon\, longtime manager of the Tillamook County Creamery Assn.
URL:https://tillamookhistory.org/event/beale-dixon-book-reading-and-sale/
LOCATION:Pioneer Museum\, 2106 Second St\, Tillamook\, OR\, 97141\, United States
END:VEVENT
BEGIN:VEVENT
DTSTART;TZID=America/Los_Angeles:20250223T130000
DTEND;TZID=America/Los_Angeles:20250223T140000
DTSTAMP:20260419T124059
CREATED:20250213T190150Z
LAST-MODIFIED:20250213T190150Z
UID:3778-1740315600-1740319200@tillamookhistory.org
SUMMARY:Ruby Fry-Matson Retirement Party
DESCRIPTION:
URL:https://tillamookhistory.org/event/ruby-fry-matson-retirement-party/
LOCATION:Pioneer Museum\, 2106 Second St\, Tillamook\, OR\, 97141\, United States
END:VEVENT
END:VCALENDAR